BEGIN:VCALENDAR
VERSION:2.0
PRODID:-// - ECPv6.11.2.1//NONSGML v1.0//EN
CALSCALE:GREGORIAN
METHOD:PUBLISH
X-ORIGINAL-URL:https://clubciclistaaguilar.com
X-WR-CALDESC:Eventos para 
REFRESH-INTERVAL;VALUE=DURATION:PT1H
X-Robots-Tag:noindex
X-PUBLISHED-TTL:PT1H
BEGIN:VTIMEZONE
TZID:UTC
BEGIN:STANDARD
TZOFFSETFROM:+0000
TZOFFSETTO:+0000
TZNAME:UTC
DTSTART:20240101T000000
END:STANDARD
END:VTIMEZONE
BEGIN:VEVENT
DTSTART;TZID=UTC:20241208T080000
DTEND;TZID=UTC:20241208T130000
DTSTAMP:20260425T152749
CREATED:20241122T121144Z
LAST-MODIFIED:20241125T131512Z
UID:1502-1733644800-1733662800@clubciclistaaguilar.com
SUMMARY:Buñuel-Sancho Abarca
DESCRIPTION:Powered by Wikiloc
URL:https://clubciclistaaguilar.com/evento/bunuel-sancho-abarca/
CATEGORIES:BTT
END:VEVENT
END:VCALENDAR