BEGIN:VCALENDAR
VERSION:2.0
PRODID:-// - ECPv6.11.2.1//NONSGML v1.0//EN
CALSCALE:GREGORIAN
METHOD:PUBLISH
X-ORIGINAL-URL:https://clubciclistaaguilar.com
X-WR-CALDESC:Eventos para 
REFRESH-INTERVAL;VALUE=DURATION:PT1H
X-Robots-Tag:noindex
X-PUBLISHED-TTL:PT1H
BEGIN:VTIMEZONE
TZID:UTC
BEGIN:STANDARD
TZOFFSETFROM:+0000
TZOFFSETTO:+0000
TZNAME:UTC
DTSTART:20250101T000000
END:STANDARD
END:VTIMEZONE
BEGIN:VEVENT
DTSTART;TZID=UTC:20250427T080000
DTEND;TZID=UTC:20250427T130000
DTSTAMP:20260425T104325
CREATED:20250304T112914Z
LAST-MODIFIED:20250404T090823Z
UID:1907-1745740800-1745758800@clubciclistaaguilar.com
SUMMARY:Tarazona - Diezma - San Martin - Agramonte - Fuente de los Frailes - Borja -
DESCRIPTION:Buñuel \n\n\n\n\n\n📅 Fecha: 27 de abril📍 Salida: Casino\, 8:00 h
URL:https://clubciclistaaguilar.com/evento/tarazona-diezma-san-martin-agramonte-fuente-de-los-frailes-borja/
CATEGORIES:Carretera
END:VEVENT
END:VCALENDAR