BEGIN:VCALENDAR
VERSION:2.0
PRODID:-// - ECPv6.11.2.1//NONSGML v1.0//EN
CALSCALE:GREGORIAN
METHOD:PUBLISH
X-ORIGINAL-URL:https://clubciclistaaguilar.com
X-WR-CALDESC:Eventos para 
REFRESH-INTERVAL;VALUE=DURATION:PT1H
X-Robots-Tag:noindex
X-PUBLISHED-TTL:PT1H
BEGIN:VTIMEZONE
TZID:UTC
BEGIN:STANDARD
TZOFFSETFROM:+0000
TZOFFSETTO:+0000
TZNAME:UTC
DTSTART:20250101T000000
END:STANDARD
END:VTIMEZONE
BEGIN:VEVENT
DTSTART;TZID=UTC:20250920T080000
DTEND;TZID=UTC:20250920T130000
DTSTAMP:20260425T040239
CREATED:20250304T113805Z
LAST-MODIFIED:20250902T064942Z
UID:1929-1758355200-1758373200@clubciclistaaguilar.com
SUMMARY:Borja - Buste - Tarazona - Buñuel
DESCRIPTION:📅 Fecha: 20 de septiembre📍 Salida: Casino\, 8:00 h
URL:https://clubciclistaaguilar.com/evento/borja-buste-tarazona-bunuel/
CATEGORIES:Carretera
END:VEVENT
END:VCALENDAR