BEGIN:VCALENDAR
VERSION:2.0
PRODID:-// - ECPv6.11.2.1//NONSGML v1.0//EN
CALSCALE:GREGORIAN
METHOD:PUBLISH
X-ORIGINAL-URL:https://clubciclistaaguilar.com
X-WR-CALDESC:Eventos para 
REFRESH-INTERVAL;VALUE=DURATION:PT1H
X-Robots-Tag:noindex
X-PUBLISHED-TTL:PT1H
BEGIN:VTIMEZONE
TZID:UTC
BEGIN:STANDARD
TZOFFSETFROM:+0000
TZOFFSETTO:+0000
TZNAME:UTC
DTSTART:20250101T000000
END:STANDARD
END:VTIMEZONE
BEGIN:VEVENT
DTSTART;TZID=UTC:20251115T080000
DTEND;TZID=UTC:20251115T130000
DTSTAMP:20260425T012043
CREATED:20250304T114218Z
LAST-MODIFIED:20250521T071921Z
UID:1939-1763193600-1763211600@clubciclistaaguilar.com
SUMMARY:Vuelta a Aguilar con comida fin de temporada
DESCRIPTION:
URL:https://clubciclistaaguilar.com/evento/vuelta-a-aguilar-con-comida-fin-de-temporada/
LOCATION:Buñuel\, Plaza San José de Calasanz\, Buñuel\, Spain
CATEGORIES:BTT
END:VEVENT
END:VCALENDAR