BEGIN:VCALENDAR
VERSION:2.0
PRODID:-// - ECPv6.11.2.1//NONSGML v1.0//EN
CALSCALE:GREGORIAN
METHOD:PUBLISH
X-ORIGINAL-URL:https://clubciclistaaguilar.com
X-WR-CALDESC:Eventos para 
REFRESH-INTERVAL;VALUE=DURATION:PT1H
X-Robots-Tag:noindex
X-PUBLISHED-TTL:PT1H
BEGIN:VTIMEZONE
TZID:UTC
BEGIN:STANDARD
TZOFFSETFROM:+0000
TZOFFSETTO:+0000
TZNAME:UTC
DTSTART:20250101T000000
END:STANDARD
END:VTIMEZONE
BEGIN:VEVENT
DTSTART;TZID=UTC:20250510T080000
DTEND;TZID=UTC:20250510T130000
DTSTAMP:20260425T140331
CREATED:20250304T113002Z
LAST-MODIFIED:20250404T085408Z
UID:1909-1746864000-1746882000@clubciclistaaguilar.com
SUMMARY:Ollaza - Toboganes - Angliru - Bajada por el Chopo - Buñuel
DESCRIPTION:📅 Fecha: 10 de mayo📍 Salida: Casino\, 8:00 h
URL:https://clubciclistaaguilar.com/evento/ollaza-toboganes-angliru-bajada-por-el-chopo-bunuel/
CATEGORIES:BTT
END:VEVENT
END:VCALENDAR