BEGIN:VCALENDAR
VERSION:2.0
PRODID:-// - ECPv6.11.2.1//NONSGML v1.0//EN
CALSCALE:GREGORIAN
METHOD:PUBLISH
X-ORIGINAL-URL:https://clubciclistaaguilar.com
X-WR-CALDESC:Eventos para 
REFRESH-INTERVAL;VALUE=DURATION:PT1H
X-Robots-Tag:noindex
X-PUBLISHED-TTL:PT1H
BEGIN:VTIMEZONE
TZID:UTC
BEGIN:STANDARD
TZOFFSETFROM:+0000
TZOFFSETTO:+0000
TZNAME:UTC
DTSTART:20250101T000000
END:STANDARD
END:VTIMEZONE
BEGIN:VEVENT
DTSTART;TZID=UTC:20250614T080000
DTEND;TZID=UTC:20250614T130000
DTSTAMP:20260425T125516
CREATED:20250304T113402Z
LAST-MODIFIED:20250404T085445Z
UID:1913-1749888000-1749906000@clubciclistaaguilar.com
SUMMARY:Bocal - Cabanillas - Tamariz - Barranco de Chaqueta - Buñuel
DESCRIPTION:📅 Fecha: 14 de junio📍 Salida: Casino\, 8:00 h
URL:https://clubciclistaaguilar.com/evento/bocal-cabanillas-tamariz-barranco-de-chaqueta-bunuel/
CATEGORIES:BTT
END:VEVENT
BEGIN:VEVENT
DTSTART;TZID=UTC:20250625T090000
DTEND;TZID=UTC:20250625T110000
DTSTAMP:20260425T125516
CREATED:20250304T113505Z
LAST-MODIFIED:20250625T124442Z
UID:1917-1750842000-1750849200@clubciclistaaguilar.com
SUMMARY:Salida chiqui
DESCRIPTION:🚴‍♀️✨ ¡Llega Mi primera salida a la Bardena! ✨🚴‍♂️ \n\n\n\nUna ruta pensada para disfrutar del ciclismo en familia y dar los primeros pedales hacia la aventura 🚵‍♀️🌿 \n\n\n\n📅 Sábado 5 de julio \n\n\n\n📍 Salida: Plaza San José de Calasanz \n\n\n\n⏰ Hora: 9:00 h \n\n\n\n🏁 Llegada: 11:00 h con vermut en el Casino para los inscritos \n\n\n\n📏 Ruta total: 13 km (pasando por la Arboleda y la Cuesta de la Iglesia) \n\n\n\n👧🧒 Recomendado a partir de 7 años \n\n\n\n👨‍👧 Los niños y niñas deben ir acompañados de una persona adulta \n\n\n\n✅ Inscripción GRATUITA y obligatoria \n\n\n\nIndícanos cuántos adultos y niños asistiréis tanto a la ruta como al vermut. \n\n\n\n🔗 Inscripciones aquí: https://forms.gle/y8MggDYAa56hURcn7 \n\n\n\n¡Una experiencia divertida\, segura y en plena naturaleza! 🌞🚴
URL:https://clubciclistaaguilar.com/evento/salida-chiqui/
CATEGORIES:BTT
END:VEVENT
BEGIN:VEVENT
DTSTART;TZID=UTC:20250629T080000
DTEND;TZID=UTC:20250629T130000
DTSTAMP:20260425T125516
CREATED:20250304T113436Z
LAST-MODIFIED:20250404T085504Z
UID:1915-1751184000-1751202000@clubciclistaaguilar.com
SUMMARY:BTT Montes de Tauste (Sanchoabarca)
DESCRIPTION:📅 Fecha: 29 de junio📍 Salida: Casino\, 8:00 h
URL:https://clubciclistaaguilar.com/evento/btt-montes-de-tauste-sanchoabarca/
CATEGORIES:BTT
END:VEVENT
END:VCALENDAR