BEGIN:VCALENDAR
VERSION:2.0
PRODID:-// - ECPv6.11.2.1//NONSGML v1.0//EN
CALSCALE:GREGORIAN
METHOD:PUBLISH
X-ORIGINAL-URL:https://clubciclistaaguilar.com
X-WR-CALDESC:Eventos para 
REFRESH-INTERVAL;VALUE=DURATION:PT1H
X-Robots-Tag:noindex
X-PUBLISHED-TTL:PT1H
BEGIN:VTIMEZONE
TZID:UTC
BEGIN:STANDARD
TZOFFSETFROM:+0000
TZOFFSETTO:+0000
TZNAME:UTC
DTSTART:20250101T000000
END:STANDARD
END:VTIMEZONE
BEGIN:VEVENT
DTSTART;TZID=UTC:20250712T080000
DTEND;TZID=UTC:20250712T130000
DTSTAMP:20260425T125521
CREATED:20250304T113534Z
LAST-MODIFIED:20250404T085539Z
UID:1919-1752307200-1752325200@clubciclistaaguilar.com
SUMMARY:Cuesta del hierro - Valdecru
DESCRIPTION:📅 Fecha: 12 de julio📍 Salida: Casino\, 8:00 h
URL:https://clubciclistaaguilar.com/evento/cuesta-del-hierro-valdecru/
CATEGORIES:BTT
END:VEVENT
END:VCALENDAR