BEGIN:VCALENDAR
VERSION:2.0
PRODID:-// - ECPv6.11.2.1//NONSGML v1.0//EN
CALSCALE:GREGORIAN
METHOD:PUBLISH
X-ORIGINAL-URL:https://clubciclistaaguilar.com
X-WR-CALDESC:Eventos para 
REFRESH-INTERVAL;VALUE=DURATION:PT1H
X-Robots-Tag:noindex
X-PUBLISHED-TTL:PT1H
BEGIN:VTIMEZONE
TZID:UTC
BEGIN:STANDARD
TZOFFSETFROM:+0000
TZOFFSETTO:+0000
TZNAME:UTC
DTSTART:20250101T000000
END:STANDARD
END:VTIMEZONE
BEGIN:VEVENT
DTSTART;TZID=UTC:20250315T070000
DTEND;TZID=UTC:20250315T180000
DTSTAMP:20260425T104858
CREATED:20250203T105208Z
LAST-MODIFIED:20250312T082419Z
UID:1725-1742022000-1742061600@clubciclistaaguilar.com
SUMMARY:Javierada en BTT 2025
DESCRIPTION:¡CAMBIO DE FECHA! \n\n\n\n📅 Fecha: 15 de marzo📍 Salida: Plaza de las Vacas\, 7:00 h🍽 Incluye almuerzo y comida🚌 Vuelta en autobús🔹 Furgoneta de apoyo durante el recorrido \n\n\n\n📌 Inscripción: 30 €💳 Pago por ingreso en cuenta: ES20 3008 0036 6847 2288 6928⏳ Fecha límite: 28 de febrero \n\n\n\n¡No te lo pierdas! Organiza Club Ciclista Aguilar 🚵‍♂️ \n\n\n\nPowered by Wikiloc
URL:https://clubciclistaaguilar.com/evento/javierada-en-btt-2025/
CATEGORIES:BTT
END:VEVENT
BEGIN:VEVENT
DTSTART;TZID=UTC:20250329T080000
DTEND;TZID=UTC:20250329T120000
DTSTAMP:20260425T104858
CREATED:20250304T112707Z
LAST-MODIFIED:20250306T124606Z
UID:1899-1743235200-1743249600@clubciclistaaguilar.com
SUMMARY:Fraile - Juego pelota - Rianton - Fustiñana - Buñuel
DESCRIPTION:📅 Fecha: 29 de marzo📍 Salida: Plaza de las Vacas\, 8:00 h
URL:https://clubciclistaaguilar.com/evento/fraile-juego-pelota-rianton-fustinana-bunuel/
CATEGORIES:BTT
END:VEVENT
END:VCALENDAR