BEGIN:VCALENDAR
VERSION:2.0
PRODID:-// - ECPv6.11.2.1//NONSGML v1.0//EN
CALSCALE:GREGORIAN
METHOD:PUBLISH
X-ORIGINAL-URL:https://clubciclistaaguilar.com
X-WR-CALDESC:Eventos para 
REFRESH-INTERVAL;VALUE=DURATION:PT1H
X-Robots-Tag:noindex
X-PUBLISHED-TTL:PT1H
BEGIN:VTIMEZONE
TZID:UTC
BEGIN:STANDARD
TZOFFSETFROM:+0000
TZOFFSETTO:+0000
TZNAME:UTC
DTSTART:20250101T000000
END:STANDARD
END:VTIMEZONE
BEGIN:VEVENT
DTSTART;TZID=UTC:20250802T080000
DTEND;TZID=UTC:20250802T130000
DTSTAMP:20260425T040208
CREATED:20250304T113600Z
LAST-MODIFIED:20250617T120637Z
UID:1921-1754121600-1754139600@clubciclistaaguilar.com
SUMMARY:Salida Pre-Fietas - Burren
DESCRIPTION:📅 Fecha: 2 de agosto📍 Salida: Casino\, 8:00 h
URL:https://clubciclistaaguilar.com/evento/salida-pre-fietas-burren/
CATEGORIES:BTT
END:VEVENT
BEGIN:VEVENT
DTSTART;TZID=UTC:20250810T003000
DTEND;TZID=UTC:20250810T010000
DTSTAMP:20260425T040208
CREATED:20250731T113124Z
LAST-MODIFIED:20250731T113822Z
UID:2787-1754785800-1754787600@clubciclistaaguilar.com
SUMMARY:Salida popular prefiestas 2025
DESCRIPTION:📅 Fecha: 10 de agosto📍 Salida: Plaza San José de Calasanz\, 8:00 h \n\n\n\n\n\nSe realiza un recorrido de unos 35 km por la Bardena Buñuelera. \n\n\n\nAl llegar almorzaremos en el Casino de Buñuel. \n\n\n\nPrecio Socios: 5 € \n\n\n\nPrecio No Socios: 12 € \n\n\n\nInscríbete rellenando el formulario\n\n\n\nCargando…
URL:https://clubciclistaaguilar.com/evento/salida-popular-prefiestas-2025/
CATEGORIES:Carretera
ATTACH;FMTTYPE=image/png:https://clubciclistaaguilar.com/wp-content/uploads/2025/07/Domingo-10-de-agosto-1.png
END:VEVENT
BEGIN:VEVENT
DTSTART;TZID=UTC:20250824T080000
DTEND;TZID=UTC:20250824T130000
DTSTAMP:20260425T040208
CREATED:20250304T113626Z
LAST-MODIFIED:20250404T085609Z
UID:1923-1756022400-1756040400@clubciclistaaguilar.com
SUMMARY:Tarazona - Badillo - Agramonte - Voz Mediano - Tarazona - Fustiñaña - Buñuel
DESCRIPTION:📅 Fecha: 24 de agosto📍 Salida: Casino\, 8:00 h
URL:https://clubciclistaaguilar.com/evento/tarazona-badillo-agramonte-voz-mediano-tarazona-fustinana-bunuel/
CATEGORIES:Carretera
END:VEVENT
BEGIN:VEVENT
DTSTART;TZID=UTC:20250831T070000
DTEND;TZID=UTC:20250831T130000
DTSTAMP:20260425T040208
CREATED:20250304T113701Z
LAST-MODIFIED:20250709T083909Z
UID:1925-1756623600-1756645200@clubciclistaaguilar.com
SUMMARY:Salida vuelta ciclista España en Alfaro
DESCRIPTION:📅 Fecha: 31 de agosto📍 Salida: Casino\, 7:00 h
URL:https://clubciclistaaguilar.com/evento/salida-vuelta-ciclista-espana-en-alfaro/
CATEGORIES:Carretera
END:VEVENT
END:VCALENDAR